BEGIN:VCALENDAR
VERSION:2.0
PRODID:-//AIA Nevada - ECPv6.15.20//NONSGML v1.0//EN
CALSCALE:GREGORIAN
METHOD:PUBLISH
X-WR-CALNAME:AIA Nevada
X-ORIGINAL-URL:https://aianevada.org
X-WR-CALDESC:Events for AIA Nevada
REFRESH-INTERVAL;VALUE=DURATION:PT1H
X-Robots-Tag:noindex
X-PUBLISHED-TTL:PT1H
BEGIN:VTIMEZONE
TZID:America/Los_Angeles
BEGIN:DAYLIGHT
TZOFFSETFROM:-0800
TZOFFSETTO:-0700
TZNAME:PDT
DTSTART:20250309T100000
END:DAYLIGHT
BEGIN:STANDARD
TZOFFSETFROM:-0700
TZOFFSETTO:-0800
TZNAME:PST
DTSTART:20251102T090000
END:STANDARD
BEGIN:DAYLIGHT
TZOFFSETFROM:-0800
TZOFFSETTO:-0700
TZNAME:PDT
DTSTART:20260308T100000
END:DAYLIGHT
BEGIN:STANDARD
TZOFFSETFROM:-0700
TZOFFSETTO:-0800
TZNAME:PST
DTSTART:20261101T090000
END:STANDARD
BEGIN:DAYLIGHT
TZOFFSETFROM:-0800
TZOFFSETTO:-0700
TZNAME:PDT
DTSTART:20270314T100000
END:DAYLIGHT
BEGIN:STANDARD
TZOFFSETFROM:-0700
TZOFFSETTO:-0800
TZNAME:PST
DTSTART:20271107T090000
END:STANDARD
END:VTIMEZONE
BEGIN:VEVENT
DTSTART;TZID=America/Los_Angeles:20260910T080000
DTEND;TZID=America/Los_Angeles:20260910T170000
DTSTAMP:20260422T155257
CREATED:20260407T185129Z
LAST-MODIFIED:20260407T185129Z
UID:4832-1789027200-1789059600@aianevada.org
SUMMARY:AIA Las Vegas ARC Product Show 2026: Participants
DESCRIPTION:You’re Invited: ARC Product Show 2026\nJoin architects\, designers\, and AEC professionals for a one-day experience at the 2026 ARC Product Show — a dynamic showcase of the latest building products\, technologies\, and design innovations. \nYour complimentary ARC Product Show pass includes: \n\n Networking with industry peers and leading vendors Exploration of cutting-edge products and services Complimentary valet parking – back by popular demand Passed appetizers & refreshing cash bar Exciting giveaways throughout the day – don’t forget your business cards! \n\nLooking to earn CEUs?Add a CE Pass for access to AIA LU|HSW sessions led by top industry experts. Sessions from 9:15 AM – 3:30 PM\, with lunch provided. \nWhether you’re looking to spark new ideas or strengthen your network\, the ARC Product Show is the must-attend event for professionals shaping the built environment. \nDon’t miss your chance to stand out — limited sponsorship opportunities are now available on the Exhibitors Page.
URL:https://aianevada.org/event/aia-las-vegas-arc-product-show-2026-participants/
CATEGORIES:Continuing Education Classes,Marquee Event,Membership Meetings
ATTACH;FMTTYPE=image/png:https://aianevada.org/wp-content/uploads/2026/04/2026-ARC-Banners.png
END:VEVENT
END:VCALENDAR