BEGIN:VCALENDAR
VERSION:2.0
PRODID:-//AIA Nevada - ECPv6.15.20//NONSGML v1.0//EN
CALSCALE:GREGORIAN
METHOD:PUBLISH
X-ORIGINAL-URL:https://aianevada.org
X-WR-CALDESC:Events for AIA Nevada
REFRESH-INTERVAL;VALUE=DURATION:PT1H
X-Robots-Tag:noindex
X-PUBLISHED-TTL:PT1H
BEGIN:VTIMEZONE
TZID:America/Los_Angeles
BEGIN:DAYLIGHT
TZOFFSETFROM:-0800
TZOFFSETTO:-0700
TZNAME:PDT
DTSTART:20250309T100000
END:DAYLIGHT
BEGIN:STANDARD
TZOFFSETFROM:-0700
TZOFFSETTO:-0800
TZNAME:PST
DTSTART:20251102T090000
END:STANDARD
BEGIN:DAYLIGHT
TZOFFSETFROM:-0800
TZOFFSETTO:-0700
TZNAME:PDT
DTSTART:20260308T100000
END:DAYLIGHT
BEGIN:STANDARD
TZOFFSETFROM:-0700
TZOFFSETTO:-0800
TZNAME:PST
DTSTART:20261101T090000
END:STANDARD
BEGIN:DAYLIGHT
TZOFFSETFROM:-0800
TZOFFSETTO:-0700
TZNAME:PDT
DTSTART:20270314T100000
END:DAYLIGHT
BEGIN:STANDARD
TZOFFSETFROM:-0700
TZOFFSETTO:-0800
TZNAME:PST
DTSTART:20271107T090000
END:STANDARD
END:VTIMEZONE
BEGIN:VEVENT
DTSTART;TZID=America/Los_Angeles:20260527T170000
DTEND;TZID=America/Los_Angeles:20260527T183000
DTSTAMP:20260422T110343
CREATED:20260421T154912Z
LAST-MODIFIED:20260422T171248Z
UID:4855-1779901200-1779906600@aianevada.org
SUMMARY:AIA Nevada National Candidate Forum
DESCRIPTION:Join AIA Nevada for the AIA Nevada National Candidate Forum\, an important opportunity to hear directly from candidates seeking national leadership within the American Institute of Architects. \nScheduled for Wednesday\, May 27\, 2026\, from 5:00 PM to 6:30 PM (PT)\, this virtual forum offers members a chance to engage with candidates and gain insight into their platforms\, priorities\, and vision for the future of the profession. \nAll candidates will participate in a live session\, with presentations delivered in a randomized order by position. Each candidate will have five minutes to share their remarks. Following the presentations\, attendees will have the opportunity to hear responses to audience-submitted questions during a moderated Q&A session. Candidates within each category will be asked the same questions\, encouraging thoughtful and balanced discussion. \nThis forum plays a vital role in supporting an informed and engaged membership ahead of national elections.
URL:https://aianevada.org/event/aia-nevada-national-candidate-forum/
CATEGORIES:Membership Meetings
ATTACH;FMTTYPE=image/png:https://aianevada.org/wp-content/uploads/2026/04/AIA-Nevada-National-Forum.png
END:VEVENT
END:VCALENDAR