BEGIN:VCALENDAR
VERSION:2.0
PRODID:-//AIA Nevada - ECPv6.15.20//NONSGML v1.0//EN
CALSCALE:GREGORIAN
METHOD:PUBLISH
X-WR-CALNAME:AIA Nevada
X-ORIGINAL-URL:https://aianevada.org
X-WR-CALDESC:Events for AIA Nevada
REFRESH-INTERVAL;VALUE=DURATION:PT1H
X-Robots-Tag:noindex
X-PUBLISHED-TTL:PT1H
BEGIN:VTIMEZONE
TZID:America/Los_Angeles
BEGIN:DAYLIGHT
TZOFFSETFROM:-0800
TZOFFSETTO:-0700
TZNAME:PDT
DTSTART:20250309T100000
END:DAYLIGHT
BEGIN:STANDARD
TZOFFSETFROM:-0700
TZOFFSETTO:-0800
TZNAME:PST
DTSTART:20251102T090000
END:STANDARD
BEGIN:DAYLIGHT
TZOFFSETFROM:-0800
TZOFFSETTO:-0700
TZNAME:PDT
DTSTART:20260308T100000
END:DAYLIGHT
BEGIN:STANDARD
TZOFFSETFROM:-0700
TZOFFSETTO:-0800
TZNAME:PST
DTSTART:20261101T090000
END:STANDARD
BEGIN:DAYLIGHT
TZOFFSETFROM:-0800
TZOFFSETTO:-0700
TZNAME:PDT
DTSTART:20270314T100000
END:DAYLIGHT
BEGIN:STANDARD
TZOFFSETFROM:-0700
TZOFFSETTO:-0800
TZNAME:PST
DTSTART:20271107T090000
END:STANDARD
END:VTIMEZONE
BEGIN:VEVENT
DTSTART;TZID=America/Los_Angeles:20260521T160000
DTEND;TZID=America/Los_Angeles:20260521T180000
DTSTAMP:20260422T110321
CREATED:20260407T191352Z
LAST-MODIFIED:20260407T191352Z
UID:4842-1779379200-1779386400@aianevada.org
SUMMARY:AIA Northern Nevada Spring CEU-Social Event
DESCRIPTION:Earn 2 HSW\, followed by a Networking Social \n\n\n\n\nCourse Name: Dark Skies\nProvided by: AIA Northern Nevada\nProvider Number:\nCode:\nCourse Length: 1 hr American Institute of Architects Architect\nCredit: 2 HSW
URL:https://aianevada.org/event/aia-northern-nevada-spring-ceu-social-event/
ATTACH;FMTTYPE=image/webp:https://aianevada.org/wp-content/uploads/2026/04/aia-nn-event-banner.webp
END:VEVENT
END:VCALENDAR