BEGIN:VCALENDAR
VERSION:2.0
PRODID:-//AIA Nevada - ECPv6.15.20//NONSGML v1.0//EN
CALSCALE:GREGORIAN
METHOD:PUBLISH
X-ORIGINAL-URL:https://aianevada.org
X-WR-CALDESC:Events for AIA Nevada
REFRESH-INTERVAL;VALUE=DURATION:PT1H
X-Robots-Tag:noindex
X-PUBLISHED-TTL:PT1H
BEGIN:VTIMEZONE
TZID:America/Los_Angeles
BEGIN:DAYLIGHT
TZOFFSETFROM:-0800
TZOFFSETTO:-0700
TZNAME:PDT
DTSTART:20250309T100000
END:DAYLIGHT
BEGIN:STANDARD
TZOFFSETFROM:-0700
TZOFFSETTO:-0800
TZNAME:PST
DTSTART:20251102T090000
END:STANDARD
BEGIN:DAYLIGHT
TZOFFSETFROM:-0800
TZOFFSETTO:-0700
TZNAME:PDT
DTSTART:20260308T100000
END:DAYLIGHT
BEGIN:STANDARD
TZOFFSETFROM:-0700
TZOFFSETTO:-0800
TZNAME:PST
DTSTART:20261101T090000
END:STANDARD
BEGIN:DAYLIGHT
TZOFFSETFROM:-0800
TZOFFSETTO:-0700
TZNAME:PDT
DTSTART:20270314T100000
END:DAYLIGHT
BEGIN:STANDARD
TZOFFSETFROM:-0700
TZOFFSETTO:-0800
TZNAME:PST
DTSTART:20271107T090000
END:STANDARD
END:VTIMEZONE
BEGIN:VEVENT
DTSTART;TZID=America/Los_Angeles:20260520T180000
DTEND;TZID=America/Los_Angeles:20260520T213000
DTSTAMP:20260422T110326
CREATED:20260416T212902Z
LAST-MODIFIED:20260416T213250Z
UID:4848-1779300000-1779312600@aianevada.org
SUMMARY:Morelli Housewarming Party
DESCRIPTION:Celebrating the Nevada Architects Foundation’s New Home \nJoin us for an evening of celebration as the Nevada Architects Foundation officially welcomes friends\, colleagues\, and the design community into its newest chapter — a place to call home. \nThe Morelli Housewarming marks a historic milestone for the Foundation: the acquisition of a permanent property that will serve as a hub for architectural education\, advocacy\, and community engagement in Southern Nevada for generations to come. This is more than a building — it is a foundation\, in every sense of the word. \nGuests are invited to tour the property\, raise a glass\, and share in the excitement of what this new home means for the profession and the communities we serve. Light bites\, cocktails\, and great conversation await as we celebrate the people\, the vision\, and the momentum that made this moment possible. \nThis is your invitation to be part of history. \nAdmission:$150 for one$250 for two \nSponsorship opportunities are available\, with contributions 100% tax-deductible\, offering a meaningful way to support the ongoing work of the Nevada Architects Foundation and AIA Las Vegas. \nWe look forward to celebrating this exciting new chapter with you.
URL:https://aianevada.org/event/morelli-housewarming-party/
LOCATION:Morelli House
CATEGORIES:Signature Event
ATTACH;FMTTYPE=image/png:https://aianevada.org/wp-content/uploads/2026/04/Morelli-Open-House-Final.png
END:VEVENT
END:VCALENDAR