BEGIN:VCALENDAR
VERSION:2.0
PRODID:-//AIA Nevada - ECPv6.15.20//NONSGML v1.0//EN
CALSCALE:GREGORIAN
METHOD:PUBLISH
X-WR-CALNAME:AIA Nevada
X-ORIGINAL-URL:https://aianevada.org
X-WR-CALDESC:Events for AIA Nevada
REFRESH-INTERVAL;VALUE=DURATION:PT1H
X-Robots-Tag:noindex
X-PUBLISHED-TTL:PT1H
BEGIN:VTIMEZONE
TZID:America/Los_Angeles
BEGIN:DAYLIGHT
TZOFFSETFROM:-0800
TZOFFSETTO:-0700
TZNAME:PDT
DTSTART:20250309T100000
END:DAYLIGHT
BEGIN:STANDARD
TZOFFSETFROM:-0700
TZOFFSETTO:-0800
TZNAME:PST
DTSTART:20251102T090000
END:STANDARD
BEGIN:DAYLIGHT
TZOFFSETFROM:-0800
TZOFFSETTO:-0700
TZNAME:PDT
DTSTART:20260308T100000
END:DAYLIGHT
BEGIN:STANDARD
TZOFFSETFROM:-0700
TZOFFSETTO:-0800
TZNAME:PST
DTSTART:20261101T090000
END:STANDARD
BEGIN:DAYLIGHT
TZOFFSETFROM:-0800
TZOFFSETTO:-0700
TZNAME:PDT
DTSTART:20270314T100000
END:DAYLIGHT
BEGIN:STANDARD
TZOFFSETFROM:-0700
TZOFFSETTO:-0800
TZNAME:PST
DTSTART:20271107T090000
END:STANDARD
END:VTIMEZONE
BEGIN:VEVENT
DTSTART;TZID=America/Los_Angeles:20260412T220000
DTEND;TZID=America/Los_Angeles:20260413T070000
DTSTAMP:20260422T093518
CREATED:20251206T075626Z
LAST-MODIFIED:20260325T162215Z
UID:3502-1776031200-1776063600@aianevada.org
SUMMARY:52nd Annual Golf Tournament
DESCRIPTION:A Day on the Greens with AIA Las Vegas\nThe tradition continues! Join us for the 52nd Annual AIA Las Vegas Golf Tournament\, where industry camaraderie meets friendly competition in a full day on the fairways. \nThis signature event brings together professionals across Architecture\, Engineering\, and Construction (AEC)\, along with partners\, clients\, and colleagues who make our industry thrive. Expect stunning views\, great company\, and opportunities to connect both on and off the course. \nEvent Details\nDate: April 13\, 2026Location: Canyon Gate Country Club — Private Course \nWhether you’re here for the challenge or simply to enjoy a relaxed day outdoors\, all golfers and skill levels are welcome. From tee-off to the final putt\, this event is designed to foster connection\, strengthen relationships\, and create unforgettable moments on one of Las Vegas’ premier private courses. \nGather your team\, grab your clubs\, and get ready for another incredible day of networking\, sunshine\, and shared celebration of our industry. \nExplore sponsorship opportunities HERE \nPurchase sponsorships HERE
URL:https://aianevada.org/event/52nd-annual-golf-tournament/
LOCATION:Canyon Gate Country Club\, 2001 Canyon Gate Dr.\, Las Vegas\, 89117\, United States
CATEGORIES:Marquee Event
ATTACH;FMTTYPE=image/png:https://aianevada.org/wp-content/uploads/2025/12/Website-Banner-52nd-Annual-Golf-Tournament-1920-x-1080-px.png
END:VEVENT
END:VCALENDAR