BEGIN:VCALENDAR
VERSION:2.0
PRODID:-//AIA Nevada - ECPv6.15.20//NONSGML v1.0//EN
CALSCALE:GREGORIAN
METHOD:PUBLISH
X-WR-CALNAME:AIA Nevada
X-ORIGINAL-URL:https://aianevada.org
X-WR-CALDESC:Events for AIA Nevada
REFRESH-INTERVAL;VALUE=DURATION:PT1H
X-Robots-Tag:noindex
X-PUBLISHED-TTL:PT1H
BEGIN:VTIMEZONE
TZID:America/Los_Angeles
BEGIN:DAYLIGHT
TZOFFSETFROM:-0800
TZOFFSETTO:-0700
TZNAME:PDT
DTSTART:20250309T100000
END:DAYLIGHT
BEGIN:STANDARD
TZOFFSETFROM:-0700
TZOFFSETTO:-0800
TZNAME:PST
DTSTART:20251102T090000
END:STANDARD
BEGIN:DAYLIGHT
TZOFFSETFROM:-0800
TZOFFSETTO:-0700
TZNAME:PDT
DTSTART:20260308T100000
END:DAYLIGHT
BEGIN:STANDARD
TZOFFSETFROM:-0700
TZOFFSETTO:-0800
TZNAME:PST
DTSTART:20261101T090000
END:STANDARD
BEGIN:DAYLIGHT
TZOFFSETFROM:-0800
TZOFFSETTO:-0700
TZNAME:PDT
DTSTART:20270314T100000
END:DAYLIGHT
BEGIN:STANDARD
TZOFFSETFROM:-0700
TZOFFSETTO:-0800
TZNAME:PST
DTSTART:20271107T090000
END:STANDARD
END:VTIMEZONE
BEGIN:VEVENT
DTSTART;TZID=America/Los_Angeles:20260226T093000
DTEND;TZID=America/Los_Angeles:20260226T113000
DTSTAMP:20260422T110604
CREATED:20260127T023421Z
LAST-MODIFIED:20260127T024419Z
UID:3508-1772098200-1772105400@aianevada.org
SUMMARY:West Las Vegas Library Site Tour
DESCRIPTION:Join us for an exclusive West Las Vegas Library Site Tour on February 26\, featuring guided walkthroughs led by the project’s design and delivery team from KME Architects: \n\nMelvin Green\, Principal\nDanithza Olsen\, Project Manager\nAndrew Nasrallah\, Architectural Job Captain\n\nLocated on North Martin Luther King Boulevard\, the new 41\,000+ square-foot\, two-story West Las Vegas Library represents a transformative investment in this historic neighborhood. More than double the size of its previous 16\,000+ square-foot branch on West Lake Mead Boulevard (and originally a storefront on “D” Street in 1973)\, this stand-alone facility is an architectural landmark designed to expand access\, opportunity\, and community resources. \nDuring the tour\, attendees will experience how the design supports: \n\nRobust children’s programming and literacy services\nInteractive technology and job skills development\nCultural celebration and community gathering\n\nParticipants will also see key program elements including: \n\nA flexible Event Center\nA state-of-the-art 3D Printing Lab\nThe Historical African American Collection\nThe Digital Memories Preservation Lab\nAn all-new 60\,000-volume collection\n\nRefreshments and light snacks will be provided.\nThis tour is an excellent opportunity to learn how thoughtful design\, community engagement\, and innovative library programming come together to create a vibrant civic hub for West Las Vegas.
URL:https://aianevada.org/event/west-las-vegas-library-site-tour/
CATEGORIES:Committee Meetings
ATTACH;FMTTYPE=image/png:https://aianevada.org/wp-content/uploads/2026/01/WLVLTour-Banner.png
END:VEVENT
END:VCALENDAR