BEGIN:VCALENDAR
VERSION:2.0
PRODID:-//AIA Nevada - ECPv6.15.20//NONSGML v1.0//EN
CALSCALE:GREGORIAN
METHOD:PUBLISH
X-WR-CALNAME:AIA Nevada
X-ORIGINAL-URL:https://aianevada.org
X-WR-CALDESC:Events for AIA Nevada
REFRESH-INTERVAL;VALUE=DURATION:PT1H
X-Robots-Tag:noindex
X-PUBLISHED-TTL:PT1H
BEGIN:VTIMEZONE
TZID:America/Los_Angeles
BEGIN:DAYLIGHT
TZOFFSETFROM:-0800
TZOFFSETTO:-0700
TZNAME:PDT
DTSTART:20250309T100000
END:DAYLIGHT
BEGIN:STANDARD
TZOFFSETFROM:-0700
TZOFFSETTO:-0800
TZNAME:PST
DTSTART:20251102T090000
END:STANDARD
BEGIN:DAYLIGHT
TZOFFSETFROM:-0800
TZOFFSETTO:-0700
TZNAME:PDT
DTSTART:20260308T100000
END:DAYLIGHT
BEGIN:STANDARD
TZOFFSETFROM:-0700
TZOFFSETTO:-0800
TZNAME:PST
DTSTART:20261101T090000
END:STANDARD
BEGIN:DAYLIGHT
TZOFFSETFROM:-0800
TZOFFSETTO:-0700
TZNAME:PDT
DTSTART:20270314T100000
END:DAYLIGHT
BEGIN:STANDARD
TZOFFSETFROM:-0700
TZOFFSETTO:-0800
TZNAME:PST
DTSTART:20271107T090000
END:STANDARD
END:VTIMEZONE
BEGIN:VEVENT
DTSTART;TZID=America/Los_Angeles:20260225T040000
DTEND;TZID=America/Los_Angeles:20260225T050000
DTSTAMP:20260422T110604
CREATED:20260116T073331Z
LAST-MODIFIED:20260214T080709Z
UID:4410-1771992000-1771995600@aianevada.org
SUMMARY:ARE Study Sessions
DESCRIPTION:Join us for monthly study sessions designed to support emerging professionals on their path to architectural licensure! Each session is lead by a licensed architect and focuses on one of the six ARE exam divisions\, offering in-depth analysis of practice questions and interactive discussion. \nSession Details: \n\nDate: Last Wednesday of every month\nDuration: 45 Minutes\nFormat: Virtual\nCost: Free to Attend\n\nSpecial Opportunity \n\nAt the conclusion of each session\, one (1) ARE seat credit will be raffled among attending AIA members. Winners will have their seat credit directly applied to their NCARB account.\n\nEligibility \n\nStudy sessions are open to all upcoming licensure candidates\nRaffle participation exclusive to AIA members\n\nJoin us in building a supportive community of future architects while advancing your ARE preparation. Whether you’re actively testing or just beginning your licensure journey\, these sessions offer valuable insights and the chance to learn from experienced professionals. \nRegister today to take advantage of this excellent member benefit and learning opportunity!  \n** REGISTRATION IS REQUIRED FOR EACH SESSION
URL:https://aianevada.org/event/are-study-sessions/
CATEGORIES:Committee Meetings,Continuing Education Classes
ATTACH;FMTTYPE=image/png:https://aianevada.org/wp-content/uploads/2026/01/ARE-Study-session.png
END:VEVENT
END:VCALENDAR