BEGIN:VCALENDAR
VERSION:2.0
PRODID:-//AIA Nevada - ECPv6.15.20//NONSGML v1.0//EN
CALSCALE:GREGORIAN
METHOD:PUBLISH
X-ORIGINAL-URL:https://aianevada.org
X-WR-CALDESC:Events for AIA Nevada
REFRESH-INTERVAL;VALUE=DURATION:PT1H
X-Robots-Tag:noindex
X-PUBLISHED-TTL:PT1H
BEGIN:VTIMEZONE
TZID:America/Los_Angeles
BEGIN:DAYLIGHT
TZOFFSETFROM:-0800
TZOFFSETTO:-0700
TZNAME:PDT
DTSTART:20250309T100000
END:DAYLIGHT
BEGIN:STANDARD
TZOFFSETFROM:-0700
TZOFFSETTO:-0800
TZNAME:PST
DTSTART:20251102T090000
END:STANDARD
BEGIN:DAYLIGHT
TZOFFSETFROM:-0800
TZOFFSETTO:-0700
TZNAME:PDT
DTSTART:20260308T100000
END:DAYLIGHT
BEGIN:STANDARD
TZOFFSETFROM:-0700
TZOFFSETTO:-0800
TZNAME:PST
DTSTART:20261101T090000
END:STANDARD
BEGIN:DAYLIGHT
TZOFFSETFROM:-0800
TZOFFSETTO:-0700
TZNAME:PDT
DTSTART:20270314T100000
END:DAYLIGHT
BEGIN:STANDARD
TZOFFSETFROM:-0700
TZOFFSETTO:-0800
TZNAME:PST
DTSTART:20271107T090000
END:STANDARD
END:VTIMEZONE
BEGIN:VEVENT
DTSTART;TZID=America/Los_Angeles:20260129T013000
DTEND;TZID=America/Los_Angeles:20260129T083000
DTSTAMP:20260422T131100
CREATED:20260116T082127Z
LAST-MODIFIED:20260127T005102Z
UID:4430-1769650200-1769675400@aianevada.org
SUMMARY:9th Annual Mayor’s Urban Design Symposium
DESCRIPTION:Join us for the 9th Annual Mayor’s Urban Design Symposium\, a full-day event focused on urban design\, planning\, and the built environment\, presented in partnership with the City of Las Vegas. \nThe event will open at 8:30 a.m. with coffee and bagels\, followed by opening remarks from Mayor Shelley Berkley at 9:00 a.m. The program will feature a series of panel discussions and presentations from leading professionals in urban design\, architecture\, education\, and research. Panels are expected to conclude at approximately 4:00 p.m. \nConfirmed speakers include: \n\n\nCarey Upton\, Chief Operations Officer\, Santa Monica–Malibu Unified School District \n\n\nWilliam Sullivan\, University of Illinois\, Department of Landscape Architecture \n\n\nAmy Yurko\, Brain Spaces \n\n\nJames O’Connor\, Moore Ruble Yudell Architects \n\n\nThis annual symposium brings together architects\, designers\, planners\, educators\, and civic leaders to explore ideas shaping cities and communities\, with a focus on thoughtful\, impactful urban design. \nDate: January 29\, 2026Time: 9:30 a.m. – 4:30 p.m.Location:Historic 5th Street School401 S. Fourth StreetLas Vegas\, NV 89101 \nSponsor: City of Las VegasPartner: AIA Las Vegas
URL:https://aianevada.org/event/9th-annual-mayors-urban-design-symposium/
CATEGORIES:Continuing Education Classes,Membership Meetings
ATTACH;FMTTYPE=image/png:https://aianevada.org/wp-content/uploads/2026/01/mayor.png
END:VEVENT
END:VCALENDAR